BEGIN:VCALENDAR
VERSION:2.0
PRODID:-//MEAI - ECPv6.15.15//NONSGML v1.0//EN
CALSCALE:GREGORIAN
METHOD:PUBLISH
X-WR-CALNAME:MEAI
X-ORIGINAL-URL:https://meai.in
X-WR-CALDESC:Events for MEAI
REFRESH-INTERVAL;VALUE=DURATION:PT1H
X-Robots-Tag:noindex
X-PUBLISHED-TTL:PT1H
BEGIN:VTIMEZONE
TZID:Asia/Kolkata
BEGIN:STANDARD
TZOFFSETFROM:+0530
TZOFFSETTO:+0530
TZNAME:IST
DTSTART:20230101T000000
END:STANDARD
END:VTIMEZONE
BEGIN:VEVENT
DTSTART;VALUE=DATE:20241122
DTEND;VALUE=DATE:20241123
DTSTAMP:20260420T033427
CREATED:20240814T054712Z
LAST-MODIFIED:20241113T065005Z
UID:464-1732233600-1732319999@meai.in
SUMMARY:WAM! Guwahati
DESCRIPTION:WAVES Anime & Manga Contest (WAM!) is an innovative initiative aimed at harnessing the growing interest in manga and anime in India and a constituent of World Audio Visual Entertainment Summit (WAVES). The competition offers a platform for Indian talent to create localized versions of popular Japanese styles\, appealing to both local and global audiences. The event is designed to cultivate creativity and provide opportunities for aspiring artists and creators to showcase their work\, potentially leading to publishing and distribution deals. \n__PRESENT \n__PRESENT \n__PRESENT
URL:https://meai.in/event/wam-kohima/
CATEGORIES:Waves Anime & Manga Contest
ATTACH;FMTTYPE=image/png:https://meai.in/wp-content/uploads/2024/08/FinalLogo.png
END:VEVENT
BEGIN:VEVENT
DTSTART;VALUE=DATE:20241124
DTEND;VALUE=DATE:20241125
DTSTAMP:20260420T033427
CREATED:20240814T054949Z
LAST-MODIFIED:20240917T133128Z
UID:466-1732406400-1732492799@meai.in
SUMMARY:WAM! Kolkata
DESCRIPTION:WAVES Anime & Manga Contest (WAM!) is an innovative initiative aimed at harnessing the growing interest in manga and anime in India and a constituent of World Audio Visual Entertainment Summit (WAVES). The competition offers a platform for Indian talent to create localized versions of popular Japanese styles\, appealing to both local and global audiences. The event is designed to cultivate creativity and provide opportunities for aspiring artists and creators to showcase their work\, potentially leading to publishing and distribution deals. \n__PRESENT \n__PRESENT
URL:https://meai.in/event/wam-kolkata/
CATEGORIES:Waves Anime & Manga Contest
ATTACH;FMTTYPE=image/png:https://meai.in/wp-content/uploads/2024/08/FinalLogo.png
END:VEVENT
BEGIN:VEVENT
DTSTART;VALUE=DATE:20241126
DTEND;VALUE=DATE:20241127
DTSTAMP:20260420T033427
CREATED:20240814T055042Z
LAST-MODIFIED:20240917T133035Z
UID:468-1732579200-1732665599@meai.in
SUMMARY:WAM! Bhubaneswar
DESCRIPTION:WAVES Anime & Manga Contest (WAM!) is an innovative initiative aimed at harnessing the growing interest in manga and anime in India and a constituent of World Audio Visual Entertainment Summit (WAVES). The competition offers a platform for Indian talent to create localized versions of popular Japanese styles\, appealing to both local and global audiences. The event is designed to cultivate creativity and provide opportunities for aspiring artists and creators to showcase their work\, potentially leading to publishing and distribution deals. \n__PRESENT \n__PRESENT
URL:https://meai.in/event/wam-bhubaneshwar/
CATEGORIES:Waves Anime & Manga Contest
ATTACH;FMTTYPE=image/png:https://meai.in/wp-content/uploads/2024/08/FinalLogo.png
END:VEVENT
BEGIN:VEVENT
DTSTART;VALUE=DATE:20241128
DTEND;VALUE=DATE:20241129
DTSTAMP:20260420T033427
CREATED:20240814T055300Z
LAST-MODIFIED:20240917T132959Z
UID:470-1732752000-1732838399@meai.in
SUMMARY:WAM! Varanasi
DESCRIPTION:WAVES Anime & Manga Contest (WAM!) is an innovative initiative aimed at harnessing the growing interest in manga and anime in India and a constituent of World Audio Visual Entertainment Summit (WAVES). The competition offers a platform for Indian talent to create localized versions of popular Japanese styles\, appealing to both local and global audiences. The event is designed to cultivate creativity and provide opportunities for aspiring artists and creators to showcase their work\, potentially leading to publishing and distribution deals. \n__PRESENT \n__PRESENT \n__PRESENT__PRESENT
URL:https://meai.in/event/wam-varanasi/
CATEGORIES:Waves Anime & Manga Contest
ATTACH;FMTTYPE=image/png:https://meai.in/wp-content/uploads/2024/08/FinalLogo.png
END:VEVENT
BEGIN:VEVENT
DTSTART;VALUE=DATE:20241130
DTEND;VALUE=DATE:20241201
DTSTAMP:20260420T033427
CREATED:20240814T055351Z
LAST-MODIFIED:20240917T132732Z
UID:472-1732924800-1733011199@meai.in
SUMMARY:WAM! Delhi
DESCRIPTION:WAVES Anime & Manga Contest (WAM!) is an innovative initiative aimed at harnessing the growing interest in manga and anime in India and a constituent of World Audio Visual Entertainment Summit (WAVES). The competition offers a platform for Indian talent to create localized versions of popular Japanese styles\, appealing to both local and global audiences. The event is designed to cultivate creativity and provide opportunities for aspiring artists and creators to showcase their work\, potentially leading to publishing and distribution deals. \n__PRESENT \n__PRESENT__PRESENT
URL:https://meai.in/event/wam-delhi/
CATEGORIES:Waves Anime & Manga Contest
ATTACH;FMTTYPE=image/png:https://meai.in/wp-content/uploads/2024/08/FinalLogo.png
END:VEVENT
END:VCALENDAR